BEGIN:VCALENDAR
VERSION:2.0
PRODID:-//eventon.com NONSGML v1.0//EN
CALSCALE:GREGORIAN
METHOD:PUBLISH
BEGIN:VEVENT
UID:69e9d860b1780
DTSTAMP:20260423T082920Z
DTSTART:20161203T110000Z
DTEND:20161203T180000Z
LOCATION:Wokingham Old Town Hall Market Place\,  Wokingham RG40 1AS
SUMMARY:9th Wokingham Wine Festival
DESCRIPTION:The 9th Wokingham Wine Festival is being held in the Main Hall 
 on the first floor of Wokingham&#8217;s historic Town Hall in the Market Pl
 ace. Come and say ciao to Campania Wines and stock up on wonderful wines n
 ot available on the High Street. Pre-purchased tickets cost £5 and are val
 id[..]\nhttps://campaniawines.co.uk/events/9th-wokingham-wine-festival/
URL:https://campaniawines.co.uk/events/9th-wokingham-wine-festival/
END:VEVENT
END:VCALENDAR